BEGIN:VCALENDAR
VERSION:2.0
PRODID:-//hacksw/handcal//NONSGML v1.0//EN
BEGIN:VEVENT
SUMMARY:Journee sportive « A vos baskets »
UID:1034e0dd-363d-45cc-ae2d-7d9b70facb8c
DTSTART:20260613T120000Z
DTEND:20260613T160000Z
LOCATION:Localisation   
CATEGORIES:Sportif
STATUS:
DESCRIPTION:<p><span style="font-size:11pt;"><span><span
 style="font-family:Calibri, sans-serif;"><b><span
 style="font-size:18pt;"><span style="font-family:'Century Gothic',
 sans-serif;">Journee sportive « A vos baskets
 »</span></span></b></span></span></span></p>
 
 <p><span
 style="font-size:11pt;"><span><span style="font-family:Calibri,
 sans-serif;"><span style="font-size:12pt;"><span
 style="font-family:'Century Gothic', sans-serif;">L’Office
 Municipal des Sports organise la journee sportive « A vos baskets
 »,  le samedi 13 juin 2026 au Palais Omnisports de Thiais, et plus
 particulierement au stade
 Baudequin.</span></span></span></span></span></p>
 
 <p><span
 style="font-size:11pt;"><span><span style="font-family:Calibri,
 sans-serif;"><span style="font-size:12pt;"><span
 style="font-family:'Century Gothic', sans-serif;">Cette journee a
 pour objectif de rassembler l’ensemble des associations sportives
 de la ville autour d’un evenement convivial, dynamique et ouvert a
 tous.</span></span></span></span></span></p>
 
 <p><span
 style="font-size:11pt;"><span><span style="font-family:Calibri,
 sans-serif;"><span style="font-size:12pt;"><span
 style="font-family:'Century Gothic', sans-serif;">Cette manifestation
 a pour but de
 :</span></span></span></span></span></p>
 
 <ul>
 	<li><span
 style="font-size:11pt;"><span><span><span style="font-family:Calibri,
 sans-serif;"><span style="font-size:12pt;"><span
 style="font-family:'Century Gothic', sans-serif;">Promouvoir la
 pratique sportive aupres du grand public
 ;</span></span></span></span></span></span></li>
 	<li><span
 style="font-size:11pt;"><span><span><span style="font-family:Calibri,
 sans-serif;"><span style="font-size:12pt;"><span
 style="font-family:'Century Gothic', sans-serif;">Valoriser les
 associations sportives locales
 ;</span></span></span></span></span></span></li>
 	<li><span
 style="font-size:11pt;"><span><span><span style="font-family:Calibri,
 sans-serif;"><span style="font-size:12pt;"><span
 style="font-family:'Century Gothic', sans-serif;">Permettre aux
 habitants de decouvrir differentes disciplines
 sportives </span></span></span></span></span></span></li>
 </ul>
 
 <p><span
 style="font-size:11pt;"><span><span style="font-family:Calibri,
 sans-serif;"><span style="font-size:12pt;"><span
 style="font-family:'Century Gothic', sans-serif;">Il est concu comme
 une journee de decouverte et d’initiation accessible a tous
 (enfants, adolescents et
 adultes).</span></span></span></span></span></p>
URL;VALUE=URI:https://www.omsthiais.com/evenements/2026/06/13/journee-sportive-a-vos-baskets-2435481
END:VEVENT
END:VCALENDAR
