BEGIN:VCALENDAR
VERSION:2.0
PRODID:-//hacksw/handcal//NONSGML v1.0//EN
BEGIN:VEVENT
SUMMARY:GALA DE L'OMS
UID:86efc5c8-8fc2-48a3-b04f-0505744620db
DTSTART:20260620T190000Z
DTEND:20260620T203000Z
LOCATION:Localisation   
CATEGORIES:Sportif
STATUS:
DESCRIPTION:<p><span style="font-size:11pt;"><span><span
 style="font-family:Calibri, sans-serif;"><b><span
 style="font-size:36pt;"><span><span style="font-family:Century,
 serif;">GALA DE
 L’OMS</span></span></span></b></span></span></span></p>
 
 <p><span
 style="font-size:11pt;"><span><span style="font-family:Calibri,
 sans-serif;"><b><span style="font-size:24pt;"><span><span
 style="font-family:Century, serif;">LES STARS DE LA
 MUSIQUE</span></span></span></b></span></span></span></p>
 
 <p><span
 style="font-size:11pt;"><span><span style="font-family:Calibri,
 sans-serif;"><span style="font-family:Century, serif;">au Theatre de
 Verdure - Parc de
 l’Europe</span></span></span></span></p>
 
 <p><span
 style="font-size:16px;"><strong><span><span
 style="font-family:Calibri, sans-serif;"><span
 style="font-family:Century, serif;">SAMEDI 20 JUIN 2026 a
 21h00</span></span></span></strong></span></p>
 
 <p><span
 style="font-size:11pt;"><span><span style="font-family:Calibri,
 sans-serif;"><span style="font-family:Century, serif;">Ouverture des
 portes a 20h30</span></span></span></span></p>
 
 <p> </p>
 
 <p><span
 style="font-size:11pt;"><span><span style="font-family:Calibri,
 sans-serif;"><b><span style="font-size:14pt;"><span><span
 style="font-family:Century, serif;">2€
 l’Entree</span></span></span></b><span style="font-family:Century,
 serif;">. Gratuit pour les moins de 6
 ans</span></span></span></span></p>
 
 <p><span
 style="font-size:11pt;"><span><span style="font-family:Calibri,
 sans-serif;"><b><span style="font-family:Century, serif;">Infos &
 Reservations :</span></b><span style="font-family:Century, serif;">
 omsthiais94@gmail.com –
 01-48-92-42-62</span></span></span></span></p>
 
 <p><span
 style="font-size:11pt;"><span><span style="font-family:Calibri,
 sans-serif;"><b><span style="font-family:Century,
 serif;">Acteurs :</span></b><span style="font-family:Century,
 serif;"> les eleves de l’OMS et leurs professeurs, Sonia, Marine,
 Muriel, J-Philippe, Justine et
 Tatiana</span></span></span></span></p>
URL;VALUE=URI:https://www.omsthiais.com/evenements/2026/06/20/gala-de-loms-2443217
END:VEVENT
END:VCALENDAR
